BEGIN:VCALENDAR
VERSION:2.0
PRODID:-//ProPEL Indy - ECPv6.15.20//NONSGML v1.0//EN
CALSCALE:GREGORIAN
METHOD:PUBLISH
X-ORIGINAL-URL:https://propelindy.com
X-WR-CALDESC:Events for ProPEL Indy
REFRESH-INTERVAL;VALUE=DURATION:PT1H
X-Robots-Tag:noindex
X-PUBLISHED-TTL:PT1H
BEGIN:VTIMEZONE
TZID:America/Indiana/Indianapolis
BEGIN:DAYLIGHT
TZOFFSETFROM:-0500
TZOFFSETTO:-0400
TZNAME:EDT
DTSTART:20230312T070000
END:DAYLIGHT
BEGIN:STANDARD
TZOFFSETFROM:-0400
TZOFFSETTO:-0500
TZNAME:EST
DTSTART:20231105T060000
END:STANDARD
BEGIN:DAYLIGHT
TZOFFSETFROM:-0500
TZOFFSETTO:-0400
TZNAME:EDT
DTSTART:20240310T070000
END:DAYLIGHT
BEGIN:STANDARD
TZOFFSETFROM:-0400
TZOFFSETTO:-0500
TZNAME:EST
DTSTART:20241103T060000
END:STANDARD
BEGIN:DAYLIGHT
TZOFFSETFROM:-0500
TZOFFSETTO:-0400
TZNAME:EDT
DTSTART:20250309T070000
END:DAYLIGHT
BEGIN:STANDARD
TZOFFSETFROM:-0400
TZOFFSETTO:-0500
TZNAME:EST
DTSTART:20251102T060000
END:STANDARD
BEGIN:DAYLIGHT
TZOFFSETFROM:-0500
TZOFFSETTO:-0400
TZNAME:EDT
DTSTART:20260308T070000
END:DAYLIGHT
BEGIN:STANDARD
TZOFFSETFROM:-0400
TZOFFSETTO:-0500
TZNAME:EST
DTSTART:20261101T060000
END:STANDARD
END:VTIMEZONE
BEGIN:VEVENT
DTSTART;TZID=America/Indiana/Indianapolis:20240601T110000
DTEND;TZID=America/Indiana/Indianapolis:20240601T170000
DTSTAMP:20260423T045011
CREATED:20240515T171919Z
LAST-MODIFIED:20240515T171919Z
UID:1044-1717239600-1717261200@propelindy.com
SUMMARY:2024 Earth Day Indiana Festival
DESCRIPTION:
URL:https://propelindy.com/event/2024-earth-day-indiana-festival/
LOCATION:Garfield Park\, 2345 Pagoda Dr\, Indianapolis\, IN\, 46203\, United States
CATEGORIES:Pop-Up Events and Tabling
ATTACH;FMTTYPE=image/png:https://propelindy.com/wp-content/uploads/2024/05/international-marketplace-global-village.png
END:VEVENT
BEGIN:VEVENT
DTSTART;TZID=America/Indiana/Indianapolis:20240606T110000
DTEND;TZID=America/Indiana/Indianapolis:20240606T130000
DTSTAMP:20260423T045011
CREATED:20240515T172329Z
LAST-MODIFIED:20240515T172329Z
UID:1047-1717671600-1717678800@propelindy.com
SUMMARY:Neighborhood Office Hours: The Coffee Haus at Guggman
DESCRIPTION:
URL:https://propelindy.com/event/neighborhood-office-hours-the-coffee-haus-at-guggman/
LOCATION:The Coffee Haus at Guggman\, 1701 Gent Ave\, Indianapolis\, IN\, 46202\, United States
CATEGORIES:Neighborhood Office Hours
ATTACH;FMTTYPE=image/png:https://propelindy.com/wp-content/uploads/2024/05/chin-community-of-Indiana-1.png
END:VEVENT
BEGIN:VEVENT
DTSTART;TZID=America/Indiana/Indianapolis:20240611T183000
DTEND;TZID=America/Indiana/Indianapolis:20240611T200000
DTSTAMP:20260423T045011
CREATED:20240522T200703Z
LAST-MODIFIED:20240522T200703Z
UID:1119-1718130600-1718136000@propelindy.com
SUMMARY:Community Conversation: Rhodius Park Family Center
DESCRIPTION:
URL:https://propelindy.com/event/community-conversation-rhodius-park-family-center/
LOCATION:Rhodius Park Family Center\, 1720 W. Wilkins St.\, Indianapolis\, IN\, 46221\, United States
CATEGORIES:Meetings & Listening Sessions
ATTACH;FMTTYPE=image/png:https://propelindy.com/wp-content/uploads/2024/05/international-marketplace-global-village-3.png
END:VEVENT
BEGIN:VEVENT
DTSTART;TZID=America/Indiana/Indianapolis:20240612T100000
DTEND;TZID=America/Indiana/Indianapolis:20240612T133000
DTSTAMP:20260423T045011
CREATED:20240515T172626Z
LAST-MODIFIED:20240515T172626Z
UID:1049-1718186400-1718199000@propelindy.com
SUMMARY:The Original Farmer's Market
DESCRIPTION:
URL:https://propelindy.com/event/the-original-farmers-market/
LOCATION:Monument Circle\, 1 Monument Circle\, Indianapolis\, 46204\, United States
ATTACH;FMTTYPE=image/png:https://propelindy.com/wp-content/uploads/2024/05/international-marketplace-global-village-2.png
END:VEVENT
BEGIN:VEVENT
DTSTART;TZID=America/Indiana/Indianapolis:20240613T160000
DTEND;TZID=America/Indiana/Indianapolis:20240613T180000
DTSTAMP:20260423T045011
CREATED:20240515T173039Z
LAST-MODIFIED:20240528T191803Z
UID:1051-1718294400-1718301600@propelindy.com
SUMMARY:Community Conversation: Julia M. Carson Government Center
DESCRIPTION:
URL:https://propelindy.com/event/community-conversation-julia-m-carson-government-center/
LOCATION:Julia M. Carson Government Center\, 300 E. Fall Creek Parkway N Dr.\, Indianapolis\, 46205\, United States
CATEGORIES:Meetings & Listening Sessions
ATTACH;FMTTYPE=image/png:https://propelindy.com/wp-content/uploads/2024/05/international-marketplace-global-village-3.png
END:VEVENT
BEGIN:VEVENT
DTSTART;TZID=America/Indiana/Indianapolis:20240618T150000
DTEND;TZID=America/Indiana/Indianapolis:20240618T170000
DTSTAMP:20260423T045011
CREATED:20240515T173307Z
LAST-MODIFIED:20240515T173307Z
UID:1054-1718722800-1718730000@propelindy.com
SUMMARY:Community Conversation: Martin University
DESCRIPTION:
URL:https://propelindy.com/event/community-conversation-martin-university/
LOCATION:Martin University\, 2186 North Sherman Drive\, Indianapolis\, Indiana\, 46218
CATEGORIES:Meetings & Listening Sessions
ATTACH;FMTTYPE=image/png:https://propelindy.com/wp-content/uploads/2024/05/international-marketplace-global-village-3.png
END:VEVENT
BEGIN:VEVENT
DTSTART;TZID=America/Indiana/Indianapolis:20240620T160000
DTEND;TZID=America/Indiana/Indianapolis:20240620T180000
DTSTAMP:20260423T045011
CREATED:20240515T173553Z
LAST-MODIFIED:20240515T173553Z
UID:1055-1718899200-1718906400@propelindy.com
SUMMARY:Neighborhood Office Hours: American Legion Post 64
DESCRIPTION:
URL:https://propelindy.com/event/neighborhood-office-hours-american-legion-post-64/
LOCATION:American Legion Post 64\, 601 S. Holt Rd.\, Indianapolis\, IN\, 46241\, United States
CATEGORIES:Neighborhood Office Hours
ATTACH;FMTTYPE=image/png:https://propelindy.com/wp-content/uploads/2024/05/chin-community-of-Indiana-1.png
END:VEVENT
BEGIN:VEVENT
DTSTART;TZID=America/Indiana/Indianapolis:20240622T100000
DTEND;TZID=America/Indiana/Indianapolis:20240622T150000
DTSTAMP:20260423T045011
CREATED:20240515T174035Z
LAST-MODIFIED:20240515T174035Z
UID:1057-1719050400-1719068400@propelindy.com
SUMMARY:Patchwork Indy Community Resource Fair
DESCRIPTION:
URL:https://propelindy.com/event/patchwork-indy-community-resource-fair/
LOCATION:Christel House DORS South\, 2405 Madison Ave\, Indianapolis\, IN\, 46225\, United States
CATEGORIES:Pop-Up Events and Tabling
ATTACH;FMTTYPE=image/png:https://propelindy.com/wp-content/uploads/2024/05/international-marketplace-global-village-4.png
END:VEVENT
BEGIN:VEVENT
DTSTART;TZID=America/Indiana/Indianapolis:20240626T160000
DTEND;TZID=America/Indiana/Indianapolis:20240626T180000
DTSTAMP:20260423T045011
CREATED:20240625T171005Z
LAST-MODIFIED:20240625T171005Z
UID:1133-1719417600-1719424800@propelindy.com
SUMMARY:Community Conversations: Guion Creek Middle School
DESCRIPTION:
URL:https://propelindy.com/event/community-conversations-guion-creek-middle-school/
LOCATION:Guion Creek Middle School\, 4401 W 52nd St.\, Indianapolis\, IN\, 46254\, United States
ATTACH;FMTTYPE=image/png:https://propelindy.com/wp-content/uploads/2024/05/international-marketplace-global-village-3.png
END:VEVENT
BEGIN:VEVENT
DTSTART;TZID=America/Indiana/Indianapolis:20240710T110000
DTEND;TZID=America/Indiana/Indianapolis:20240710T140000
DTSTAMP:20260423T045011
CREATED:20240627T161834Z
LAST-MODIFIED:20240627T161834Z
UID:1149-1720609200-1720620000@propelindy.com
SUMMARY:IMPD East District Community Day
DESCRIPTION:
URL:https://propelindy.com/event/impd-east-district-community-day/
LOCATION:Brookside Park\, 3500 Brookside Pkwy S. Dr\, Indianapolis\, IN\, 46218\, United States
CATEGORIES:Pop-Up Events and Tabling
ATTACH;FMTTYPE=image/png:https://propelindy.com/wp-content/uploads/2024/06/Events-ProPEL-Indy.png
END:VEVENT
BEGIN:VEVENT
DTSTART;TZID=America/Indiana/Indianapolis:20240717T100000
DTEND;TZID=America/Indiana/Indianapolis:20240717T133000
DTSTAMP:20260423T045011
CREATED:20240625T170440Z
LAST-MODIFIED:20240625T170440Z
UID:1132-1721210400-1721223000@propelindy.com
SUMMARY:The Original Farmer’s Market
DESCRIPTION:
URL:https://propelindy.com/event/the-original-farmers-market-2/
LOCATION:Monument Circle\, 1 Monument Circle\, Indianapolis\, 46204\, United States
CATEGORIES:Pop-Up Events and Tabling
ATTACH;FMTTYPE=image/png:https://propelindy.com/wp-content/uploads/2024/05/international-marketplace-global-village-2.png
END:VEVENT
BEGIN:VEVENT
DTSTART;TZID=America/Indiana/Indianapolis:20240723T090000
DTEND;TZID=America/Indiana/Indianapolis:20240723T110000
DTSTAMP:20260423T045011
CREATED:20240627T162115Z
LAST-MODIFIED:20240627T162115Z
UID:1153-1721725200-1721732400@propelindy.com
SUMMARY:Neighborhood Office Hours
DESCRIPTION:
URL:https://propelindy.com/event/neighborhood-office-hours/
LOCATION:MOTW Coffee & Pastries\, 4873 W. 38th St\, Indianapolis\, IN\, 46254\, United States
ATTACH;FMTTYPE=image/png:https://propelindy.com/wp-content/uploads/2024/05/chin-community-of-Indiana-1.png
END:VEVENT
BEGIN:VEVENT
DTSTART;TZID=America/Indiana/Indianapolis:20240806T180000
DTEND;TZID=America/Indiana/Indianapolis:20240806T200000
DTSTAMP:20260423T045011
CREATED:20240627T162347Z
LAST-MODIFIED:20240627T162347Z
UID:1155-1722967200-1722974400@propelindy.com
SUMMARY:National Night Out - Bean Creek Neighborhood
DESCRIPTION:
URL:https://propelindy.com/event/national-night-out-bean-creek-neighborhood/
LOCATION:Villa Baptist Church\, 2650 Villa Ave\, Indianapolis\, IN\, 46203\, United States
ATTACH;FMTTYPE=image/png:https://propelindy.com/wp-content/uploads/2024/06/Events_ProPEL-Indy.png
END:VEVENT
BEGIN:VEVENT
DTSTART;TZID=America/Indiana/Indianapolis:20240814T100000
DTEND;TZID=America/Indiana/Indianapolis:20240814T133000
DTSTAMP:20260423T045011
CREATED:20240627T162510Z
LAST-MODIFIED:20240627T162510Z
UID:1157-1723629600-1723642200@propelindy.com
SUMMARY:The Original Farmers' Market
DESCRIPTION:
URL:https://propelindy.com/event/the-original-farmers-market-3/
LOCATION:Monument Circle\, 1 Monument Circle\, Indianapolis\, 46204\, United States
ATTACH;FMTTYPE=image/png:https://propelindy.com/wp-content/uploads/2024/05/international-marketplace-global-village-2.png
END:VEVENT
BEGIN:VEVENT
DTSTART;TZID=America/Indiana/Indianapolis:20240822T150000
DTEND;TZID=America/Indiana/Indianapolis:20240822T170000
DTSTAMP:20260423T045011
CREATED:20240627T162700Z
LAST-MODIFIED:20240627T162700Z
UID:1158-1724338800-1724346000@propelindy.com
SUMMARY:Neighborhood Office Hours
DESCRIPTION:
URL:https://propelindy.com/event/neighborhood-office-hours-2/
LOCATION:Indianapolis Public Library – Warren\, 9701 E 21st St\, Indianapolis\, IN\, 46229\, United States
ATTACH;FMTTYPE=image/png:https://propelindy.com/wp-content/uploads/2024/05/chin-community-of-Indiana-1.png
END:VEVENT
BEGIN:VEVENT
DTSTART;TZID=America/Indiana/Indianapolis:20240911T100000
DTEND;TZID=America/Indiana/Indianapolis:20240911T133000
DTSTAMP:20260423T045011
CREATED:20240627T162835Z
LAST-MODIFIED:20240627T162835Z
UID:1160-1726048800-1726061400@propelindy.com
SUMMARY:The Original Farmers' Market
DESCRIPTION:
URL:https://propelindy.com/event/the-original-farmers-market-4/
LOCATION:Monument Circle\, 1 Monument Circle\, Indianapolis\, 46204\, United States
ATTACH;FMTTYPE=image/png:https://propelindy.com/wp-content/uploads/2024/05/international-marketplace-global-village-2.png
END:VEVENT
BEGIN:VEVENT
DTSTART;TZID=America/Indiana/Indianapolis:20240921T120000
DTEND;TZID=America/Indiana/Indianapolis:20240921T200000
DTSTAMP:20260423T045011
CREATED:20240814T175418Z
LAST-MODIFIED:20240814T175418Z
UID:1350-1726920000-1726948800@propelindy.com
SUMMARY:LaPlaza's Fiesta
DESCRIPTION:
URL:https://propelindy.com/event/laplazas-fiesta/
LOCATION:LaPlaza’s Fiesta\, 601 W. New York St.\, Indianapolis\, IN\, 46204\, United States
CATEGORIES:Meetings & Listening Sessions,Pop-Up Events and Tabling
ATTACH;FMTTYPE=image/png:https://propelindy.com/wp-content/uploads/2024/08/fiesta.png
END:VEVENT
BEGIN:VEVENT
DTSTART;TZID=America/Indiana/Indianapolis:20240926T160000
DTEND;TZID=America/Indiana/Indianapolis:20240926T190000
DTSTAMP:20260423T045011
CREATED:20240917T174409Z
LAST-MODIFIED:20240917T174409Z
UID:1425-1727366400-1727377200@propelindy.com
SUMMARY:IMPD Southwest District Community Day
DESCRIPTION:
URL:https://propelindy.com/event/impd-southwest-district-community-day/
LOCATION:IMPD Southwest District\, 551 N. King Avenue\, Indianapolis\, IN\, 46222\, United States
CATEGORIES:Neighborhood Office Hours,Pop-Up Events and Tabling
ATTACH;FMTTYPE=image/png:https://propelindy.com/wp-content/uploads/2024/09/IMPD.png
END:VEVENT
BEGIN:VEVENT
DTSTART;TZID=America/Indiana/Indianapolis:20240928T120000
DTEND;TZID=America/Indiana/Indianapolis:20240928T150000
DTSTAMP:20260423T045011
CREATED:20240814T175805Z
LAST-MODIFIED:20240814T175805Z
UID:1352-1727524800-1727535600@propelindy.com
SUMMARY:IMPD North Community Day
DESCRIPTION:
URL:https://propelindy.com/event/impd-north-community-day/
LOCATION:IMPD North\, 6020 E. 82nd St.\, Indianapolis\, IN\, 46250\, United States
CATEGORIES:Meetings & Listening Sessions,Pop-Up Events and Tabling
ATTACH;FMTTYPE=image/png:https://propelindy.com/wp-content/uploads/2024/08/IMPD.png
END:VEVENT
BEGIN:VEVENT
DTSTART;TZID=America/Indiana/Indianapolis:20250911T170000
DTEND;TZID=America/Indiana/Indianapolis:20250911T190000
DTSTAMP:20260423T045011
CREATED:20250826T212142Z
LAST-MODIFIED:20250903T125542Z
UID:1845-1757610000-1757617200@propelindy.com
SUMMARY:Community Conversations - John Boner Neighborhood Center
DESCRIPTION:
URL:https://propelindy.com/event/community-conversations-john-boner-neighborhood-center/
LOCATION:John Boner Neighborhood Center\, 2236 E. 10th Street\, Indianapolis\, 46201\, United States
CATEGORIES:Meetings & Listening Sessions
ATTACH;FMTTYPE=image/png:https://propelindy.com/wp-content/uploads/2025/08/orthoindy-foundation-ymca.png
END:VEVENT
BEGIN:VEVENT
DTSTART;TZID=America/Indiana/Indianapolis:20250915T170000
DTEND;TZID=America/Indiana/Indianapolis:20250915T190000
DTSTAMP:20260423T045011
CREATED:20250826T212553Z
LAST-MODIFIED:20250903T125447Z
UID:1847-1757955600-1757962800@propelindy.com
SUMMARY:Community Conversations - International District Community Center
DESCRIPTION:
URL:https://propelindy.com/event/community-conversations-international-district-community-center/
LOCATION:International District Community Center\, 3540 Commercial Drive\, Indianapolis\, IN\, 46222\, United States
CATEGORIES:Meetings & Listening Sessions
ATTACH;FMTTYPE=image/png:https://propelindy.com/wp-content/uploads/2025/08/orthoindy-foundation-ymca-2.png
END:VEVENT
BEGIN:VEVENT
DTSTART;TZID=America/Indiana/Indianapolis:20250923T170000
DTEND;TZID=America/Indiana/Indianapolis:20250923T190000
DTSTAMP:20260423T045011
CREATED:20250826T212823Z
LAST-MODIFIED:20250903T125417Z
UID:1850-1758646800-1758654000@propelindy.com
SUMMARY:Community Conversations - Indianapolis Public Library – West Branch
DESCRIPTION:
URL:https://propelindy.com/event/community-conversations-indianapolis-public-library-west-branch/
LOCATION:Indianapolis Public Library – West Branch\, 1216 Kappes Street\, Indianapolis\, Indiana\, 46221
CATEGORIES:Meetings & Listening Sessions
ATTACH;FMTTYPE=image/png:https://propelindy.com/wp-content/uploads/2025/08/orthoindy-foundation-ymca-3.png
END:VEVENT
BEGIN:VEVENT
DTSTART;TZID=America/Indiana/Indianapolis:20250925T170000
DTEND;TZID=America/Indiana/Indianapolis:20250925T190000
DTSTAMP:20260423T045011
CREATED:20250826T213005Z
LAST-MODIFIED:20250903T125339Z
UID:1853-1758819600-1758826800@propelindy.com
SUMMARY:Community Conversations - Ivy Tech Community College and Conference Center
DESCRIPTION:
URL:https://propelindy.com/event/community-conversations-ivy-tech-community-college-culinary-and-conference-center/
LOCATION:Ivy Tech Community College and Conference Center\, 2820 N Meridian Street\, Indianapolis\, Indiana\, 46208
CATEGORIES:Meetings & Listening Sessions
ATTACH;FMTTYPE=image/jpeg:https://propelindy.com/wp-content/uploads/2023/06/Ivy-Tech-College-scaled.jpg
END:VEVENT
END:VCALENDAR