BEGIN:VCALENDAR
VERSION:2.0
PRODID:-//ProPEL Indy - ECPv6.15.20//NONSGML v1.0//EN
CALSCALE:GREGORIAN
METHOD:PUBLISH
X-ORIGINAL-URL:https://propelindy.com
X-WR-CALDESC:Events for ProPEL Indy
REFRESH-INTERVAL;VALUE=DURATION:PT1H
X-Robots-Tag:noindex
X-PUBLISHED-TTL:PT1H
BEGIN:VTIMEZONE
TZID:America/Indiana/Indianapolis
BEGIN:DAYLIGHT
TZOFFSETFROM:-0500
TZOFFSETTO:-0400
TZNAME:EDT
DTSTART:20230312T070000
END:DAYLIGHT
BEGIN:STANDARD
TZOFFSETFROM:-0400
TZOFFSETTO:-0500
TZNAME:EST
DTSTART:20231105T060000
END:STANDARD
BEGIN:DAYLIGHT
TZOFFSETFROM:-0500
TZOFFSETTO:-0400
TZNAME:EDT
DTSTART:20240310T070000
END:DAYLIGHT
BEGIN:STANDARD
TZOFFSETFROM:-0400
TZOFFSETTO:-0500
TZNAME:EST
DTSTART:20241103T060000
END:STANDARD
BEGIN:DAYLIGHT
TZOFFSETFROM:-0500
TZOFFSETTO:-0400
TZNAME:EDT
DTSTART:20250309T070000
END:DAYLIGHT
BEGIN:STANDARD
TZOFFSETFROM:-0400
TZOFFSETTO:-0500
TZNAME:EST
DTSTART:20251102T060000
END:STANDARD
END:VTIMEZONE
BEGIN:VEVENT
DTSTART;TZID=America/Indiana/Indianapolis:20240601T110000
DTEND;TZID=America/Indiana/Indianapolis:20240601T170000
DTSTAMP:20260421T040031
CREATED:20240515T171919Z
LAST-MODIFIED:20240515T171919Z
UID:1044-1717239600-1717261200@propelindy.com
SUMMARY:2024 Earth Day Indiana Festival
DESCRIPTION:
URL:https://propelindy.com/event/2024-earth-day-indiana-festival/
LOCATION:Garfield Park\, 2345 Pagoda Dr\, Indianapolis\, IN\, 46203\, United States
CATEGORIES:Pop-Up Events and Tabling
ATTACH;FMTTYPE=image/png:https://propelindy.com/wp-content/uploads/2024/05/international-marketplace-global-village.png
END:VEVENT
BEGIN:VEVENT
DTSTART;TZID=America/Indiana/Indianapolis:20240606T110000
DTEND;TZID=America/Indiana/Indianapolis:20240606T130000
DTSTAMP:20260421T040031
CREATED:20240515T172329Z
LAST-MODIFIED:20240515T172329Z
UID:1047-1717671600-1717678800@propelindy.com
SUMMARY:Neighborhood Office Hours: The Coffee Haus at Guggman
DESCRIPTION:
URL:https://propelindy.com/event/neighborhood-office-hours-the-coffee-haus-at-guggman/
LOCATION:The Coffee Haus at Guggman\, 1701 Gent Ave\, Indianapolis\, IN\, 46202\, United States
CATEGORIES:Neighborhood Office Hours
ATTACH;FMTTYPE=image/png:https://propelindy.com/wp-content/uploads/2024/05/chin-community-of-Indiana-1.png
END:VEVENT
BEGIN:VEVENT
DTSTART;TZID=America/Indiana/Indianapolis:20240611T183000
DTEND;TZID=America/Indiana/Indianapolis:20240611T200000
DTSTAMP:20260421T040031
CREATED:20240522T200703Z
LAST-MODIFIED:20240522T200703Z
UID:1119-1718130600-1718136000@propelindy.com
SUMMARY:Community Conversation: Rhodius Park Family Center
DESCRIPTION:
URL:https://propelindy.com/event/community-conversation-rhodius-park-family-center/
LOCATION:Rhodius Park Family Center\, 1720 W. Wilkins St.\, Indianapolis\, IN\, 46221\, United States
CATEGORIES:Meetings & Listening Sessions
ATTACH;FMTTYPE=image/png:https://propelindy.com/wp-content/uploads/2024/05/international-marketplace-global-village-3.png
END:VEVENT
BEGIN:VEVENT
DTSTART;TZID=America/Indiana/Indianapolis:20240612T100000
DTEND;TZID=America/Indiana/Indianapolis:20240612T133000
DTSTAMP:20260421T040031
CREATED:20240515T172626Z
LAST-MODIFIED:20240515T172626Z
UID:1049-1718186400-1718199000@propelindy.com
SUMMARY:The Original Farmer's Market
DESCRIPTION:
URL:https://propelindy.com/event/the-original-farmers-market/
LOCATION:Monument Circle\, 1 Monument Circle\, Indianapolis\, 46204\, United States
ATTACH;FMTTYPE=image/png:https://propelindy.com/wp-content/uploads/2024/05/international-marketplace-global-village-2.png
END:VEVENT
BEGIN:VEVENT
DTSTART;TZID=America/Indiana/Indianapolis:20240613T160000
DTEND;TZID=America/Indiana/Indianapolis:20240613T180000
DTSTAMP:20260421T040031
CREATED:20240515T173039Z
LAST-MODIFIED:20240528T191803Z
UID:1051-1718294400-1718301600@propelindy.com
SUMMARY:Community Conversation: Julia M. Carson Government Center
DESCRIPTION:
URL:https://propelindy.com/event/community-conversation-julia-m-carson-government-center/
LOCATION:Julia M. Carson Government Center\, 300 E. Fall Creek Parkway N Dr.\, Indianapolis\, 46205\, United States
CATEGORIES:Meetings & Listening Sessions
ATTACH;FMTTYPE=image/png:https://propelindy.com/wp-content/uploads/2024/05/international-marketplace-global-village-3.png
END:VEVENT
BEGIN:VEVENT
DTSTART;TZID=America/Indiana/Indianapolis:20240618T150000
DTEND;TZID=America/Indiana/Indianapolis:20240618T170000
DTSTAMP:20260421T040031
CREATED:20240515T173307Z
LAST-MODIFIED:20240515T173307Z
UID:1054-1718722800-1718730000@propelindy.com
SUMMARY:Community Conversation: Martin University
DESCRIPTION:
URL:https://propelindy.com/event/community-conversation-martin-university/
LOCATION:Martin University\, 2186 North Sherman Drive\, Indianapolis\, Indiana\, 46218
CATEGORIES:Meetings & Listening Sessions
ATTACH;FMTTYPE=image/png:https://propelindy.com/wp-content/uploads/2024/05/international-marketplace-global-village-3.png
END:VEVENT
BEGIN:VEVENT
DTSTART;TZID=America/Indiana/Indianapolis:20240620T160000
DTEND;TZID=America/Indiana/Indianapolis:20240620T180000
DTSTAMP:20260421T040031
CREATED:20240515T173553Z
LAST-MODIFIED:20240515T173553Z
UID:1055-1718899200-1718906400@propelindy.com
SUMMARY:Neighborhood Office Hours: American Legion Post 64
DESCRIPTION:
URL:https://propelindy.com/event/neighborhood-office-hours-american-legion-post-64/
LOCATION:American Legion Post 64\, 601 S. Holt Rd.\, Indianapolis\, IN\, 46241\, United States
CATEGORIES:Neighborhood Office Hours
ATTACH;FMTTYPE=image/png:https://propelindy.com/wp-content/uploads/2024/05/chin-community-of-Indiana-1.png
END:VEVENT
BEGIN:VEVENT
DTSTART;TZID=America/Indiana/Indianapolis:20240622T100000
DTEND;TZID=America/Indiana/Indianapolis:20240622T150000
DTSTAMP:20260421T040031
CREATED:20240515T174035Z
LAST-MODIFIED:20240515T174035Z
UID:1057-1719050400-1719068400@propelindy.com
SUMMARY:Patchwork Indy Community Resource Fair
DESCRIPTION:
URL:https://propelindy.com/event/patchwork-indy-community-resource-fair/
LOCATION:Christel House DORS South\, 2405 Madison Ave\, Indianapolis\, IN\, 46225\, United States
CATEGORIES:Pop-Up Events and Tabling
ATTACH;FMTTYPE=image/png:https://propelindy.com/wp-content/uploads/2024/05/international-marketplace-global-village-4.png
END:VEVENT
BEGIN:VEVENT
DTSTART;TZID=America/Indiana/Indianapolis:20240626T160000
DTEND;TZID=America/Indiana/Indianapolis:20240626T180000
DTSTAMP:20260421T040031
CREATED:20240625T171005Z
LAST-MODIFIED:20240625T171005Z
UID:1133-1719417600-1719424800@propelindy.com
SUMMARY:Community Conversations: Guion Creek Middle School
DESCRIPTION:
URL:https://propelindy.com/event/community-conversations-guion-creek-middle-school/
LOCATION:Guion Creek Middle School\, 4401 W 52nd St.\, Indianapolis\, IN\, 46254\, United States
ATTACH;FMTTYPE=image/png:https://propelindy.com/wp-content/uploads/2024/05/international-marketplace-global-village-3.png
END:VEVENT
END:VCALENDAR